BEGIN:VCALENDAR
METHOD:PUBLISH
VERSION:2.0
PRODID:-//hacksw/handcal//NONSGML v1.0//EN
BEGIN:VEVENT
DTSTAMP:20260429T160000
DTSTART:20260429T160000
DTEND:20260429T161500
SUMMARY:Inspection
LOCATION:1/522 Stirling Highway Peppermint Grove WA 6011
DESCRIPTION:
UID:6f63a852-b7bb-435b-8a3e-5481708efb2e@enlivenai.com.au
END:VEVENT
END:VCALENDAR
