BEGIN:VCALENDAR
METHOD:PUBLISH
VERSION:2.0
PRODID:-//hacksw/handcal//NONSGML v1.0//EN
BEGIN:VEVENT
DTSTAMP:20260430T133000
DTSTART:20260430T133000
DTEND:20260430T140000
SUMMARY:Inspection
LOCATION:7/28 East Crescent Street McMahons Point NSW 2060
DESCRIPTION:
UID:e9e9c654-7821-4fbf-bd52-494bdeb5d0a1@enlivenai.com.au
END:VEVENT
END:VCALENDAR
