BEGIN:VCALENDAR
METHOD:PUBLISH
VERSION:2.0
PRODID:-//hacksw/handcal//NONSGML v1.0//EN
BEGIN:VEVENT
DTSTAMP:20260423T133000
DTSTART:20260423T133000
DTEND:20260423T140000
SUMMARY:Inspection
LOCATION:7/28 East Crescent Street McMahons Point NSW 2060
DESCRIPTION:
UID:0b64834f-e450-4e33-ab24-f39faea70acd@enlivenai.com.au
END:VEVENT
END:VCALENDAR
