BEGIN:VCALENDAR
METHOD:PUBLISH
VERSION:2.0
PRODID:-//hacksw/handcal//NONSGML v1.0//EN
BEGIN:VEVENT
DTSTAMP:20260508T153000
DTSTART:20260508T153000
DTEND:20260508T154500
SUMMARY:Inspection
LOCATION:46 Whitsunday Street Newport QLD 4020
DESCRIPTION:
UID:fa15be23-f686-4b7c-9091-a19b938b784c@enlivenai.com.au
END:VEVENT
END:VCALENDAR
