BEGIN:VCALENDAR
METHOD:PUBLISH
VERSION:2.0
PRODID:-//hacksw/handcal//NONSGML v1.0//EN
BEGIN:VEVENT
DTSTAMP:20260429T153000
DTSTART:20260429T153000
DTEND:20260429T154500
SUMMARY:Inspection
LOCATION:46 Whitsunday Street Newport QLD 4020
DESCRIPTION:
UID:d49c8ccd-feac-4d0d-a6da-8ae5eb07656f@enlivenai.com.au
END:VEVENT
END:VCALENDAR
