BEGIN:VCALENDAR
METHOD:PUBLISH
VERSION:2.0
PRODID:-//hacksw/handcal//NONSGML v1.0//EN
BEGIN:VEVENT
DTSTAMP:20260506T140000
DTSTART:20260506T140000
DTEND:20260506T143000
SUMMARY:Inspection
LOCATION:25/25 Addison Road Manly NSW 2095
DESCRIPTION:
UID:e23cc8f0-1771-45be-9959-51d6203dd57d@enlivenai.com.au
END:VEVENT
END:VCALENDAR
