BEGIN:VCALENDAR
METHOD:PUBLISH
VERSION:2.0
PRODID:-//hacksw/handcal//NONSGML v1.0//EN
BEGIN:VEVENT
DTSTAMP:20260429T140000
DTSTART:20260429T140000
DTEND:20260429T143000
SUMMARY:Inspection
LOCATION:25/25 Addison Road Manly NSW 2095
DESCRIPTION:
UID:2c154571-95d0-4897-b29a-c36bbca17cdd@enlivenai.com.au
END:VEVENT
END:VCALENDAR
