BEGIN:VCALENDAR
METHOD:PUBLISH
VERSION:2.0
PRODID:-//hacksw/handcal//NONSGML v1.0//EN
BEGIN:VEVENT
DTSTAMP:20260424T113000
DTSTART:20260424T113000
DTEND:20260424T120000
SUMMARY:Inspection
LOCATION:65 Bowen Street Warragul VIC 3820
DESCRIPTION:
UID:6b02d668-e8fc-4689-b116-57b35043cc40@enlivenai.com.au
END:VEVENT
END:VCALENDAR
