BEGIN:VCALENDAR
METHOD:PUBLISH
VERSION:2.0
PRODID:-//hacksw/handcal//NONSGML v1.0//EN
BEGIN:VEVENT
DTSTAMP:20260424T174000
DTSTART:20260424T174000
DTEND:20260424T180000
SUMMARY:Inspection
LOCATION:16/10-16 Beatrice Street Ashfield NSW 2131
DESCRIPTION:
UID:cddc605d-0859-46df-a541-009276f17a55@enlivenai.com.au
END:VEVENT
END:VCALENDAR
