BEGIN:VCALENDAR
METHOD:PUBLISH
VERSION:2.0
PRODID:-//hacksw/handcal//NONSGML v1.0//EN
BEGIN:VEVENT
DTSTAMP:20260429T100000
DTSTART:20260429T100000
DTEND:20260429T103000
SUMMARY:Inspection
LOCATION:1/9 Boyle Street Balgowlah NSW 2093
DESCRIPTION:
UID:462c8276-ae2a-4679-ba16-6f1e6ea67f09@enlivenai.com.au
END:VEVENT
END:VCALENDAR
