BEGIN:VCALENDAR
METHOD:PUBLISH
VERSION:2.0
PRODID:-//hacksw/handcal//NONSGML v1.0//EN
BEGIN:VEVENT
DTSTAMP:20260428T110000
DTSTART:20260428T110000
DTEND:20260428T113000
SUMMARY:Inspection
LOCATION:47 Westwood  Drive Samford Valley QLD 4520
DESCRIPTION:
UID:8c3fccc1-9647-4636-919a-27bc3566cc4b@enlivenai.com.au
END:VEVENT
END:VCALENDAR
