BEGIN:VCALENDAR
METHOD:PUBLISH
VERSION:2.0
PRODID:-//hacksw/handcal//NONSGML v1.0//EN
BEGIN:VEVENT
DTSTAMP:20260423T171500
DTSTART:20260423T171500
DTEND:20260423T173000
SUMMARY:Inspection
LOCATION:4/666 Kingsford Smith Drive Hamilton QLD 4007
DESCRIPTION:
UID:352596b4-d5bf-40f0-8582-bfa8cda95ae2@enlivenai.com.au
END:VEVENT
END:VCALENDAR
