BEGIN:VCALENDAR
METHOD:PUBLISH
VERSION:2.0
PRODID:-//hacksw/handcal//NONSGML v1.0//EN
BEGIN:VEVENT
DTSTAMP:20260430T183000
DTSTART:20260430T183000
DTEND:20260430T190000
SUMMARY:Inspection
LOCATION:17 Blackmore Road Mickleham VIC 3064
DESCRIPTION:
UID:5b407eb6-23a6-4112-b672-e89dee5e902f@enlivenai.com.au
END:VEVENT
END:VCALENDAR
