BEGIN:VCALENDAR
METHOD:PUBLISH
VERSION:2.0
PRODID:-//hacksw/handcal//NONSGML v1.0//EN
BEGIN:VEVENT
DTSTAMP:20260425T143000
DTSTART:20260425T143000
DTEND:20260425T150000
SUMMARY:Inspection
LOCATION:17 Blackmore Road Mickleham VIC 3064
DESCRIPTION:
UID:27eea5cd-841d-461e-8dfd-3db6afb4cacb@enlivenai.com.au
END:VEVENT
END:VCALENDAR
