BEGIN:VCALENDAR
METHOD:PUBLISH
VERSION:2.0
PRODID:-//hacksw/handcal//NONSGML v1.0//EN
BEGIN:VEVENT
DTSTAMP:20260426T114500
DTSTART:20260426T114500
DTEND:20260426T121500
SUMMARY:Inspection
LOCATION:141 Gorman Road Orange NSW 2800
DESCRIPTION:
UID:346f1de0-7531-44f1-8d1b-3000c420d5b4@enlivenai.com.au
END:VEVENT
END:VCALENDAR
