BEGIN:VCALENDAR
METHOD:PUBLISH
VERSION:2.0
PRODID:-//hacksw/handcal//NONSGML v1.0//EN
BEGIN:VEVENT
DTSTAMP:20260424T110000
DTSTART:20260424T110000
DTEND:20260424T112000
SUMMARY:Inspection
LOCATION:9 Richards Avenue Surry Hills NSW 2010
DESCRIPTION:
UID:7df86f02-33f5-4839-bb77-789ddda85ab0@enlivenai.com.au
END:VEVENT
END:VCALENDAR
