BEGIN:VCALENDAR
METHOD:PUBLISH
VERSION:2.0
PRODID:-//hacksw/handcal//NONSGML v1.0//EN
BEGIN:VEVENT
DTSTAMP:20260422T163000
DTSTART:20260422T163000
DTEND:20260422T165000
SUMMARY:Inspection
LOCATION:5 Southey Street Mittagong NSW 2575
DESCRIPTION:
UID:bddffb94-279a-46fe-948a-b6085ff88dfe@enlivenai.com.au
END:VEVENT
END:VCALENDAR
