BEGIN:VCALENDAR
METHOD:PUBLISH
VERSION:2.0
PRODID:-//hacksw/handcal//NONSGML v1.0//EN
BEGIN:VEVENT
DTSTAMP:20260429T114000
DTSTART:20260429T114000
DTEND:20260429T115500
SUMMARY:Inspection
LOCATION:402/79 Asling Street Brighton VIC 3186
DESCRIPTION:
UID:e0db36e8-3fd8-4f55-a8ab-7fb1b4eee129@enlivenai.com.au
END:VEVENT
END:VCALENDAR
