BEGIN:VCALENDAR
METHOD:PUBLISH
VERSION:2.0
PRODID:-//hacksw/handcal//NONSGML v1.0//EN
BEGIN:VEVENT
DTSTAMP:20260425T154500
DTSTART:20260425T154500
DTEND:20260425T161500
SUMMARY:Inspection
LOCATION:112/226 Bay Road Sandringham VIC 3191
DESCRIPTION:
UID:81bf5802-a8a3-45c0-9d58-207593f7f0d4@enlivenai.com.au
END:VEVENT
END:VCALENDAR
