BEGIN:VCALENDAR
METHOD:PUBLISH
VERSION:2.0
PRODID:-//hacksw/handcal//NONSGML v1.0//EN
BEGIN:VEVENT
DTSTAMP:20260428T190000
DTSTART:20260428T190000
DTEND:20260428T193000
SUMMARY:Inspection
LOCATION:14A Lindsay Street Burwood NSW 2134
DESCRIPTION:
UID:4c1dd010-d247-4dea-b0e5-7e213b0921a3@enlivenai.com.au
END:VEVENT
END:VCALENDAR
