BEGIN:VCALENDAR
METHOD:PUBLISH
VERSION:2.0
PRODID:-//hacksw/handcal//NONSGML v1.0//EN
BEGIN:VEVENT
DTSTAMP:20260428T131000
DTSTART:20260428T131000
DTEND:20260428T132500
SUMMARY:Inspection
LOCATION:104/288 Hawthorn Road Caulfield VIC 3162
DESCRIPTION:
UID:74f178d0-1a46-4a05-bf05-809d82bbe30a@enlivenai.com.au
END:VEVENT
END:VCALENDAR
