BEGIN:VCALENDAR
METHOD:PUBLISH
VERSION:2.0
PRODID:-//hacksw/handcal//NONSGML v1.0//EN
BEGIN:VEVENT
DTSTAMP:20260424T110500
DTSTART:20260424T110500
DTEND:20260424T112000
SUMMARY:Inspection
LOCATION:104/288 Hawthorn Road Caulfield VIC 3162
DESCRIPTION:
UID:cb0db166-2784-483e-bd06-c5b9a002bc5c@enlivenai.com.au
END:VEVENT
END:VCALENDAR
