BEGIN:VCALENDAR
METHOD:PUBLISH
VERSION:2.0
PRODID:-//hacksw/handcal//NONSGML v1.0//EN
BEGIN:VEVENT
DTSTAMP:20260422T133000
DTSTART:20260422T133000
DTEND:20260422T134500
SUMMARY:Inspection
LOCATION:104/288 Hawthorn Road Caulfield VIC 3162
DESCRIPTION:
UID:4e9cab8f-49de-484d-8a0d-ac87d61b9d3c@enlivenai.com.au
END:VEVENT
END:VCALENDAR
