BEGIN:VCALENDAR
METHOD:PUBLISH
VERSION:2.0
PRODID:-//hacksw/handcal//NONSGML v1.0//EN
BEGIN:VEVENT
DTSTAMP:20260429T163000
DTSTART:20260429T163000
DTEND:20260429T164500
SUMMARY:Inspection
LOCATION:20 Paperbark Street Banks ACT 2906
DESCRIPTION:
UID:8dafc4eb-ee79-400c-9a97-927cf50dad5b@enlivenai.com.au
END:VEVENT
END:VCALENDAR
