BEGIN:VCALENDAR
METHOD:PUBLISH
VERSION:2.0
PRODID:-//hacksw/handcal//NONSGML v1.0//EN
BEGIN:VEVENT
DTSTAMP:20260425T123000
DTSTART:20260425T123000
DTEND:20260425T130000
SUMMARY:Inspection
LOCATION:2C Manoora Street Greenacres SA 5086
DESCRIPTION:
UID:95ad1ee3-e988-4cf0-b660-4e116e5b3f58@enlivenai.com.au
END:VEVENT
END:VCALENDAR
