BEGIN:VCALENDAR
METHOD:PUBLISH
VERSION:2.0
PRODID:-//hacksw/handcal//NONSGML v1.0//EN
BEGIN:VEVENT
DTSTAMP:20260423T114500
DTSTART:20260423T114500
DTEND:20260423T121500
SUMMARY:Inspection
LOCATION:7/205 Beach Street Coogee NSW 2034
DESCRIPTION:
UID:95eccc71-fe8a-45e7-82be-035d0713898d@enlivenai.com.au
END:VEVENT
END:VCALENDAR
