BEGIN:VCALENDAR
METHOD:PUBLISH
VERSION:2.0
PRODID:-//hacksw/handcal//NONSGML v1.0//EN
BEGIN:VEVENT
DTSTAMP:20260428T164500
DTSTART:20260428T164500
DTEND:20260428T171500
SUMMARY:Inspection
LOCATION:17 Romulus Street Eatons Hill QLD 4037
DESCRIPTION:
UID:fffc8398-2452-4db9-b1fd-092aa55ada53@enlivenai.com.au
END:VEVENT
END:VCALENDAR
