BEGIN:VCALENDAR
METHOD:PUBLISH
VERSION:2.0
PRODID:-//hacksw/handcal//NONSGML v1.0//EN
BEGIN:VEVENT
DTSTAMP:20260428T160000
DTSTART:20260428T160000
DTEND:20260428T161500
SUMMARY:Inspection
LOCATION:12/517-521 Wentworth Avenue Toongabbie NSW 2146
DESCRIPTION:
UID:febc4667-6a86-4153-b720-1fdef86d704d@enlivenai.com.au
END:VEVENT
END:VCALENDAR
