BEGIN:VCALENDAR
METHOD:PUBLISH
VERSION:2.0
PRODID:-//hacksw/handcal//NONSGML v1.0//EN
BEGIN:VEVENT
DTSTAMP:20260423T103000
DTSTART:20260423T103000
DTEND:20260423T104500
SUMMARY:Inspection
LOCATION:2608/472 Pacific Highway St Leonards NSW 2065
DESCRIPTION:
UID:668074e0-0438-4cf5-ab34-2cc63c49ecc4@enlivenai.com.au
END:VEVENT
END:VCALENDAR
