BEGIN:VCALENDAR
METHOD:PUBLISH
VERSION:2.0
PRODID:-//hacksw/handcal//NONSGML v1.0//EN
BEGIN:VEVENT
DTSTAMP:20260429T113000
DTSTART:20260429T113000
DTEND:20260429T120000
SUMMARY:Inspection
LOCATION:2/102 Elliott Street Balmain NSW 2041
DESCRIPTION:
UID:7a10e1f5-7669-4107-864f-04d3797f6b06@enlivenai.com.au
END:VEVENT
END:VCALENDAR
