BEGIN:VCALENDAR
METHOD:PUBLISH
VERSION:2.0
PRODID:-//hacksw/handcal//NONSGML v1.0//EN
BEGIN:VEVENT
DTSTAMP:20260424T104500
DTSTART:20260424T104500
DTEND:20260424T111500
SUMMARY:Inspection
LOCATION:2/102 Elliott Street Balmain NSW 2041
DESCRIPTION:
UID:9c9694f8-2547-4573-a858-eb5e906481f3@enlivenai.com.au
END:VEVENT
END:VCALENDAR
