BEGIN:VCALENDAR
METHOD:PUBLISH
VERSION:2.0
PRODID:-//hacksw/handcal//NONSGML v1.0//EN
BEGIN:VEVENT
DTSTAMP:20260423T174500
DTSTART:20260423T174500
DTEND:20260423T180000
SUMMARY:Inspection
LOCATION:18/274 Stacey Street Bankstown NSW 2200
DESCRIPTION:
UID:aeba8bb7-72a9-4a1c-923a-39aec804519d@enlivenai.com.au
END:VEVENT
END:VCALENDAR
