BEGIN:VCALENDAR
METHOD:PUBLISH
VERSION:2.0
PRODID:-//hacksw/handcal//NONSGML v1.0//EN
BEGIN:VEVENT
DTSTAMP:20260425T171000
DTSTART:20260425T171000
DTEND:20260425T172500
SUMMARY:Inspection
LOCATION:109/549-557 Liverpool Road Strathfield NSW 2135
DESCRIPTION:
UID:d4edca78-b955-4c24-b7df-1b94212e5249@enlivenai.com.au
END:VEVENT
END:VCALENDAR
