BEGIN:VCALENDAR
METHOD:PUBLISH
VERSION:2.0
PRODID:-//hacksw/handcal//NONSGML v1.0//EN
BEGIN:VEVENT
DTSTAMP:20260424T171500
DTSTART:20260424T171500
DTEND:20260424T174500
SUMMARY:Inspection
LOCATION:1402/8 Maitland  Place Norwest NSW 2153
DESCRIPTION:
UID:78b274f3-95d1-44a8-a321-72c10df18ece@enlivenai.com.au
END:VEVENT
END:VCALENDAR
