BEGIN:VCALENDAR
METHOD:PUBLISH
VERSION:2.0
PRODID:-//hacksw/handcal//NONSGML v1.0//EN
BEGIN:VEVENT
DTSTAMP:20260422T171500
DTSTART:20260422T171500
DTEND:20260422T174500
SUMMARY:Inspection
LOCATION:1402/8 Maitland  Place Norwest NSW 2153
DESCRIPTION:
UID:854b9756-7d7d-4054-b580-f0142ca4976c@enlivenai.com.au
END:VEVENT
END:VCALENDAR
