BEGIN:VCALENDAR
METHOD:PUBLISH
VERSION:2.0
PRODID:-//hacksw/handcal//NONSGML v1.0//EN
BEGIN:VEVENT
DTSTAMP:20260424T143000
DTSTART:20260424T143000
DTEND:20260424T150000
SUMMARY:Inspection
LOCATION:28 Sellers Avenue Rutherford NSW 2320
DESCRIPTION:
UID:75f4825e-df14-4f0e-9c03-327df8fc8bc5@enlivenai.com.au
END:VEVENT
END:VCALENDAR
