BEGIN:VCALENDAR
METHOD:PUBLISH
VERSION:2.0
PRODID:-//hacksw/handcal//NONSGML v1.0//EN
BEGIN:VEVENT
DTSTAMP:20260425T153000
DTSTART:20260425T153000
DTEND:20260425T160000
SUMMARY:Inspection
LOCATION:23/410 Queen Street Melbourne VIC 3000
DESCRIPTION:
UID:da0d7de7-cd37-4262-bcb6-189a303e42fb@enlivenai.com.au
END:VEVENT
END:VCALENDAR
