BEGIN:VCALENDAR
METHOD:PUBLISH
VERSION:2.0
PRODID:-//hacksw/handcal//NONSGML v1.0//EN
BEGIN:VEVENT
DTSTAMP:20260424T140000
DTSTART:20260424T140000
DTEND:20260424T143000
SUMMARY:Inspection
LOCATION:9/15 Barramul Street Bulimba QLD 4171
DESCRIPTION:
UID:0389a839-4ed5-4a7d-b464-575da7f7b2c1@enlivenai.com.au
END:VEVENT
END:VCALENDAR
