BEGIN:VCALENDAR
METHOD:PUBLISH
VERSION:2.0
PRODID:-//hacksw/handcal//NONSGML v1.0//EN
BEGIN:VEVENT
DTSTAMP:20260424T144500
DTSTART:20260424T144500
DTEND:20260424T150000
SUMMARY:Inspection
LOCATION:11 Howson Avenue Turramurra NSW 2074
DESCRIPTION:
UID:7d9fe740-83be-47fb-9b6f-a692adead51b@enlivenai.com.au
END:VEVENT
END:VCALENDAR
