BEGIN:VCALENDAR
METHOD:PUBLISH
VERSION:2.0
PRODID:-//hacksw/handcal//NONSGML v1.0//EN
BEGIN:VEVENT
DTSTAMP:20260422T112500
DTSTART:20260422T112500
DTEND:20260422T114000
SUMMARY:Inspection
LOCATION:3/4 Eustace Street Manly NSW 2095
DESCRIPTION:
UID:eec5e7d5-fa2f-466c-9b4f-00bcfa36c7d3@enlivenai.com.au
END:VEVENT
END:VCALENDAR
