BEGIN:VCALENDAR
METHOD:PUBLISH
VERSION:2.0
PRODID:-//hacksw/handcal//NONSGML v1.0//EN
BEGIN:VEVENT
DTSTAMP:20260423T170000
DTSTART:20260423T170000
DTEND:20260423T180000
SUMMARY:Inspection
LOCATION:301/137 Landsborough Avenue Scarborough QLD 4020
DESCRIPTION:
UID:59e977c3-4c08-459e-a348-78415f4a4970@enlivenai.com.au
END:VEVENT
END:VCALENDAR
