BEGIN:VCALENDAR
METHOD:PUBLISH
VERSION:2.0
PRODID:-//hacksw/handcal//NONSGML v1.0//EN
BEGIN:VEVENT
DTSTAMP:20260509T120000
DTSTART:20260509T120000
DTEND:20260509T123000
SUMMARY:Inspection
LOCATION:308B/9-15 Central Avenue Manly NSW 2095
DESCRIPTION:
UID:67151da9-299c-4b23-9c18-dbb4f212e5c5@enlivenai.com.au
END:VEVENT
END:VCALENDAR
