BEGIN:VCALENDAR
METHOD:PUBLISH
VERSION:2.0
PRODID:-//hacksw/handcal//NONSGML v1.0//EN
BEGIN:VEVENT
DTSTAMP:20260426T103000
DTSTART:20260426T103000
DTEND:20260426T110000
SUMMARY:Inspection
LOCATION:76 Alexandra Street Hunters Hill NSW 2110
DESCRIPTION:
UID:33669fc2-ad1b-4de7-b7fc-baa218fa5419@enlivenai.com.au
END:VEVENT
END:VCALENDAR
