BEGIN:VCALENDAR
METHOD:PUBLISH
VERSION:2.0
PRODID:-//hacksw/handcal//NONSGML v1.0//EN
BEGIN:VEVENT
DTSTAMP:20260422T162000
DTSTART:20260422T162000
DTEND:20260422T163500
SUMMARY:Inspection
LOCATION:2/66 Blenheim Road Newport VIC 3015
DESCRIPTION:
UID:96d0870a-216b-42d5-9db8-42f22e5a7143@enlivenai.com.au
END:VEVENT
END:VCALENDAR
