BEGIN:VCALENDAR
METHOD:PUBLISH
VERSION:2.0
PRODID:-//hacksw/handcal//NONSGML v1.0//EN
BEGIN:VEVENT
DTSTAMP:20260424T161500
DTSTART:20260424T161500
DTEND:20260424T163000
SUMMARY:Inspection
LOCATION:19/20 Victoria Road Parramatta NSW 2150
DESCRIPTION:
UID:d282cc4e-38e1-493f-acb0-9baac8645b74@enlivenai.com.au
END:VEVENT
END:VCALENDAR
