BEGIN:VCALENDAR
METHOD:PUBLISH
VERSION:2.0
PRODID:-//hacksw/handcal//NONSGML v1.0//EN
BEGIN:VEVENT
DTSTAMP:20260430T170000
DTSTART:20260430T170000
DTEND:20260430T173000
SUMMARY:Inspection
LOCATION:2/4 Howard Avenue Ringwood East VIC 3135
DESCRIPTION:
UID:03b98681-432f-4299-ae9f-0709a64a745a@enlivenai.com.au
END:VEVENT
END:VCALENDAR
