BEGIN:VCALENDAR
METHOD:PUBLISH
VERSION:2.0
PRODID:-//hacksw/handcal//NONSGML v1.0//EN
BEGIN:VEVENT
DTSTAMP:20260425T120000
DTSTART:20260425T120000
DTEND:20260425T123000
SUMMARY:Inspection
LOCATION:33 Victoria Street Redcliffe WA 6104
DESCRIPTION:
UID:b19223ae-8013-4932-a0b4-8e99bb2afe89@enlivenai.com.au
END:VEVENT
END:VCALENDAR
