BEGIN:VCALENDAR
METHOD:PUBLISH
VERSION:2.0
PRODID:-//hacksw/handcal//NONSGML v1.0//EN
BEGIN:VEVENT
DTSTAMP:20260425T133000
DTSTART:20260425T133000
DTEND:20260425T135000
SUMMARY:Inspection
LOCATION:129 Vincent  Street Daylesford VIC 3460
DESCRIPTION:
UID:a1a05db2-138d-4770-aaa2-93d9839eb4ca@enlivenai.com.au
END:VEVENT
END:VCALENDAR
