BEGIN:VCALENDAR
METHOD:PUBLISH
VERSION:2.0
PRODID:-//hacksw/handcal//NONSGML v1.0//EN
BEGIN:VEVENT
DTSTAMP:20260423T110000
DTSTART:20260423T110000
DTEND:20260423T113000
SUMMARY:Inspection
LOCATION:1418/555 St Kilda Road Melbourne VIC 3004
DESCRIPTION:
UID:87fed869-a6c9-49da-9302-264c8aaed719@enlivenai.com.au
END:VEVENT
END:VCALENDAR
