BEGIN:VCALENDAR
METHOD:PUBLISH
VERSION:2.0
PRODID:-//hacksw/handcal//NONSGML v1.0//EN
BEGIN:VEVENT
DTSTAMP:20260426T094500
DTSTART:20260426T094500
DTEND:20260426T101500
SUMMARY:Inspection
LOCATION:41 Ridge Street Greenslopes QLD 4120
DESCRIPTION:
UID:85250254-d47b-4017-a261-41dad0787ea0@enlivenai.com.au
END:VEVENT
END:VCALENDAR
